BEGIN:VCALENDAR
VERSION:2.0
PRODID:-//The Oxford and Cambridge Society of Hong Kong - ECPv6.15.20//NONSGML v1.0//EN
CALSCALE:GREGORIAN
METHOD:PUBLISH
X-ORIGINAL-URL:https://oxbridge.org.hk
X-WR-CALDESC:Events for The Oxford and Cambridge Society of Hong Kong
REFRESH-INTERVAL;VALUE=DURATION:PT1H
X-Robots-Tag:noindex
X-PUBLISHED-TTL:PT1H
BEGIN:VTIMEZONE
TZID:Asia/Hong_Kong
BEGIN:STANDARD
TZOFFSETFROM:+0800
TZOFFSETTO:+0800
TZNAME:HKT
DTSTART:20230101T000000
END:STANDARD
END:VTIMEZONE
BEGIN:VEVENT
DTSTART;TZID=Asia/Hong_Kong:20240608T080000
DTEND;TZID=Asia/Hong_Kong:20240608T200000
DTSTAMP:20260422T181346
CREATED:20240519T095953Z
LAST-MODIFIED:20240520T232139Z
UID:5505-1717833600-1717876800@oxbridge.org.hk
SUMMARY:Day Trip to Macau
DESCRIPTION:Oxbridge is inviting members and non-members for a Day Trip To Macau \nAgenda: \n8:30 Meet at Hong Kong Macau Ferry Terminal\n9:00-10:00 Ferry from Hong Kong to Macau\n10:15-11:15Chapel of Our Lady of Penha\n11:15-11:35 São Tiago Da Barra\n11:45-13:00 Buffet Lunch at Macau Tower 360 Cafe\n13:30-15:00 Visit and exchange at the Macau University of Tourism\n15:30-17:00 Macau Museum & Mount Fortress\n17:30-18:30 Dinner at Galo Portuguese Restaurant\n18:30-18:45 Macau Outer Harbour Ferry Terminal\n19:00-20:00 Ferry from Macau to Hong Kong\n20:00 Return to Hong Kong Macau Ferry Terminal \nPlease join us! \nPlease contact administrator for any questions to Si U Sou at s.sou@oxon.org or  oxbridge administator society@oxbridge.org.hk \nTerms & Conditions:\n– Please note that event details are subject to change. The final itinerary will depend on local/weather conditions\n– By participating in this tour\, you agree to release The Oxford and Cambridge Society of Hong Kong and the tour’s organisers from any liability. As a participant\, you are responsible for your own safety and for any losses\, damages\, costs\, or expenses that may occur during the tour
URL:https://oxbridge.org.hk/event/day-trip-to-macau/
LOCATION:macau
ATTACH;FMTTYPE=image/jpeg:https://oxbridge.org.hk/wp-content/uploads/2024/05/WhatsApp-Image-2024-05-16-at-20.52.57.jpeg
ORGANIZER;CN="The Oxford and Cambridge Society of Hong Kong":MAILTO:society@oxbridge.org.hk
END:VEVENT
BEGIN:VEVENT
DTSTART;TZID=Asia/Hong_Kong:20240622T140000
DTEND;TZID=Asia/Hong_Kong:20240622T160000
DTSTAMP:20260422T181346
CREATED:20240608T051827Z
LAST-MODIFIED:20240619T031027Z
UID:5569-1719064800-1719072000@oxbridge.org.hk
SUMMARY:Oxbridge Society Art Event: Curator Presentation & Private Tour - “The Present” at Hong Kong Arts Centre\, 22 June 2024
DESCRIPTION:` \n\n\n\n\n\n2:00-4:00pm\, Saturday\, 22 June 2024 \nCurator Presentation & Private Tour:  \nGroup Exhibition of 30 Artists from 7 Regions \nArtecal Exhibition: “The Present” at Hong Kong Arts Centre  \nBuilding on our increasing focus on art and Hong Kong’s unique status as a major art centre\, The Oxford and Cambridge Society of Hong Kong is excited to welcome you to the Curator Presentation & Private Tour at Artecal Foundation’s exhibition\, titled “The Present”.  \nRepresenting its second of such exhibitions\, “The Present” is one of the largest-scale group exhibitions in Hong Kong\, this time featuring 30 leading and emerging artists from China\, Hong Kong SAR\, Japan\, Indonesia\, South Korea\, the US\, and the UK. The world is moving at an incredible speed with unpredictable changes – how do these artists from seven diverse regions of the world react to the new dynamics? \nDuring this private event\, we are delighted that the Curator of the Exhibition\, Dr. KK Chan (art patron\, alumnus from Robinson and Churchill Colleges\, Cambridge)\, his curatorial team as well as a selection of the artists will be presenting the show for us. This includes a presentation and private tour with the curator\, featuring a selection of the exhibiting artists\, followed by Q&A.   \nSociety members and their guests are welcome\, but please note that early registration is required.  \nVenue: 4/F\, Hong Kong Arts Centre Pao Galleries \nTime and date: 2:00-4:00pm\, Saturday 22 June 2024 \nCost: The event is free of charge \nRSVP: Please register at Oxbridge Society Events page. We expect a very popular response for the event and places are allocated on a first come first served basis. \nPlease register early to secure a place.\n \nEnquiries: Please write to: mongthien.shim@lsh.com and society@oxbridge.org.hk  
URL:https://oxbridge.org.hk/event/artecal-exhibition-the-present-at-hong-kong-arts-centre/
ATTACH;FMTTYPE=application/pdf:https://oxbridge.org.hk/wp-content/uploads/2024/06/Curator-Presentation-Flyer.pdf
ORGANIZER;CN="The Oxford and Cambridge Society of Hong Kong":MAILTO:society@oxbridge.org.hk
END:VEVENT
BEGIN:VEVENT
DTSTART;TZID=Asia/Hong_Kong:20240622T140000
DTEND;TZID=Asia/Hong_Kong:20240622T160000
DTSTAMP:20260422T181346
CREATED:20240615T052000Z
LAST-MODIFIED:20240615T052956Z
UID:5642-1719064800-1719072000@oxbridge.org.hk
SUMMARY:EVENT REMINDER: Oxbridge Society Art Event: Curator Presentation & Private Tour - “The Present” at Hong Kong Arts Centre\, 22 June 2024 (Saturday)
DESCRIPTION:2:00-4:00pm\, Saturday\, 22 June 2024\nCurator Presentation & Private Tour: Group Exhibition of 30 Artists  \nArtecal Exhibition: “The Present” at Hong Kong Arts Centre  \nBuilding on our increasing focus on art and Hong Kong’s unique status as a major art centre\, The Oxford and Cambridge Society of Hong Kong is excited to welcome you to the Curator Presentation & Private Tour at Artecal Foundation’s exhibition\, titled “The Present”.  \nRepresenting its second of such exhibitions\, “The Present” is one of the largest-scale group exhibitions in Hong Kong\, this time featuring 30 leading and emerging artists born or practising in China\, Hong Kong SAR\, Taiwan\, Brazil\, Japan\, Indonesia\, South Korea\, the US\, and the UK. The world is moving at an incredible speed with technological advancements\, global interconnectedness\, and unprecedented challenges – how does this diverse group of talented artists from 9 different regions of the world react to the new dynamics? How do they interpret The Present\, being the intersection between the Past and the Future\, the East and the West? \nDuring this private event\, we are delighted that the Curator of the Exhibition\, Dr. KK Chan (art patron\, alumnus from Robinson and Churchill Colleges\, Cambridge)\, his curatorial team as well as a selection of the artists will be presenting the show for us. This includes a presentation and private tour with the curator\, featuring a selection of the exhibiting artists\, followed by Q&A.   \nSociety members and their guests are welcome\, but please note that early registration is required.  \nSociety members and their guests are welcome\, but please note that early registration is required. \n \nVenue: 4/F\, Hong Kong Arts Centre Pao Galleries (opposite the Grand Hyatt Hotel\, Wanchai) \nTime and date: 2:00-4:00pm\, Saturday 22 June 2024 \nCost: The event is free of charge \nRSVP: Please register at Oxbridge Society Events page. We expect a very popular response for the event and places are allocated on a first come first served basis. \nPlease register early to secure a place. \nEnquiries: Please write to: mongthien.shim@lsh.com and society@oxbridge.org.hk  
URL:https://oxbridge.org.hk/event/event-reminder-oxbridge-society-art-event-curator-presentation-private-tour-the-present-at-hong-kong-arts-centre-22-june-2024-saturday/
ATTACH;FMTTYPE=application/pdf:https://oxbridge.org.hk/wp-content/uploads/2024/06/Curator-Presentation-Flyer.pdf
ORGANIZER;CN="The Oxford and Cambridge Society of Hong Kong":MAILTO:society@oxbridge.org.hk
END:VEVENT
END:VCALENDAR