BEGIN:VCALENDAR
VERSION:2.0
PRODID:-//The Oxford and Cambridge Society of Hong Kong - ECPv6.15.20//NONSGML v1.0//EN
CALSCALE:GREGORIAN
METHOD:PUBLISH
X-WR-CALNAME:The Oxford and Cambridge Society of Hong Kong
X-ORIGINAL-URL:https://oxbridge.org.hk
X-WR-CALDESC:Events for The Oxford and Cambridge Society of Hong Kong
REFRESH-INTERVAL;VALUE=DURATION:PT1H
X-Robots-Tag:noindex
X-PUBLISHED-TTL:PT1H
BEGIN:VTIMEZONE
TZID:Asia/Hong_Kong
BEGIN:STANDARD
TZOFFSETFROM:+0800
TZOFFSETTO:+0800
TZNAME:HKT
DTSTART:20230101T000000
END:STANDARD
END:VTIMEZONE
BEGIN:VEVENT
DTSTART;TZID=Asia/Hong_Kong:20251019T103000
DTEND;TZID=Asia/Hong_Kong:20251019T150000
DTSTAMP:20260423T024642
CREATED:20250917T045243Z
LAST-MODIFIED:20251002T131745Z
UID:8993-1760869800-1760886000@oxbridge.org.hk
SUMMARY:Annual Rowing Regatta & Family Lunch
DESCRIPTION:Date: Sunday\, 19 October 2025\nTime: 10:30am – 3pm\nVenue: Middle Island\, Royal HK Yacht Club\, Deepwater Bay\nCost: (inc. lunch set with 2 glasses of drinks)\nHK$480 (Member)\nHK$580 (Non-member)\nHK$380 (Children under 11) \nThanks to the kind permission of the Rowing Committee of the Royal Hong Kong Yacht Club\, the Oxbridge Annual Rowing Regatta will take place at Middle Island\, Deepwater Bay on Sunday\, 19 October 2025\, starting from 10:30am. \nThis is a celebration of community and family\, set in one of Hong Kong’s most scenic waterfront locations. Children and guests of all ages are warmly invited to join in the fun\, whether cheering on the races or simply enjoying the relaxed atmosphere and beautiful surroundings. \nThe rowing races will begin at 11:30am sharp\, featuring crews from Oxford\, Cambridge\, combined alumni\, and the Royal Hong Kong Yacht Club. While some rowing or coxing experience is helpful\, crews will be of mixed ability and fitness\, making it accessible and enjoyable for all. Individual and crew entries are welcome—please register in advance (but no later than 15 October) so we can begin assembling teams. \nParticipants are encouraged to wear their varsity colours and embrace the friendly rivalry. Experienced rowers will have the chance to race in Hong Kong’s own “Boat Race” or in a Goldie/Isis boat\, but the overall tone of the day is light-hearted and inclusive\, with plenty of opportunities for a fun row and to represent your alma mater. \nAfter the races\, prizes will be awarded on the Clubhouse lawn\, followed by a family-friendly buffet lunch. As the day winds down\, enjoy a glass of wine while watching the sunset over Deepwater Bay—a perfect end to a memorable day for all ages. \nDisclaimer: By participating in this event organised by the Oxford and Cambridge Society of Hong Kong\, each participant acknowledges and agrees that they are responsible for their own health\, safety\, and personal belongings. The Society and its committee members will not be held liable for any damages\, losses\, or injuries that may arise from this event. \nEnquiries :\nfor rowing-related matters:\nMichael Ng (michaelwtng06@gmail.com)\nFang Zhou (fzhao.mail@gmail.com) \nfor other general matters:\nVincent Ko\, (kolongfung@gmail.com)\nMax Lay (tyl38@cantab.ac.uk)\nOxbridge Administrator (society@oxbridge.org.hk)
URL:https://oxbridge.org.hk/event/annual-rowing-regatta-family-lunch-2/
CATEGORIES:Festival,Food & Wine
ATTACH;FMTTYPE=image/jpeg:https://oxbridge.org.hk/wp-content/uploads/2025/09/Regatta-_new.jpeg
END:VEVENT
BEGIN:VEVENT
DTSTART;TZID=Asia/Hong_Kong:20250822T180000
DTEND;TZID=Asia/Hong_Kong:20250822T230000
DTSTAMP:20260423T024642
CREATED:20250811T114416Z
LAST-MODIFIED:20250818T063310Z
UID:8795-1755885600-1755903600@oxbridge.org.hk
SUMMARY:Join Us at the Joint US-UK University Summer Mixer!
DESCRIPTION:The Oxford and Cambridge Society of Hong Kong is delighted to invite you to an exciting Joint US-UK University Summer Mixer! This is a fantastic opportunity to connect with fellow alumni from Oxford\, Cambridge\, and other US and UK institutions. \nEvent Details: \nDate: Friday\, 22 August\nTime: 6 PM – 11 PM\nVenue: The Space\, G/F\, 60 Wyndham Street\, Central\nAdmission: Cash bar format\, HKD 100 (includes 2 drinks). Payment at the door; no booking required.\nSpecial Offer: HKD 60 for drinks after\, plus bottles at 50% off!\nCome and enjoy an evening of networking\, camaraderie\, and fun with fellow alumni from both sides of the Atlantic. We look forward to seeing you there! \nEnquiries: For any questions\, feel free to contact our Society’s committee member\, Max Lay\, at tyl38@cantab.ac.uk\, or reach out to our Society’s administrator at society@oxbridge.org.hk.
URL:https://oxbridge.org.hk/event/join-us-at-the-joint-us-uk-university-summer-mixer/
CATEGORIES:Cocktails,Festival
ATTACH;FMTTYPE=image/jpeg:https://oxbridge.org.hk/wp-content/uploads/2025/08/Joint-US-UK-Univ-event-2025.jpeg
END:VEVENT
BEGIN:VEVENT
DTSTART;TZID=Asia/Hong_Kong:20250524T160000
DTEND;TZID=Asia/Hong_Kong:20250524T183000
DTSTAMP:20260423T024642
CREATED:20250513T012302Z
LAST-MODIFIED:20250521T065808Z
UID:8481-1748102400-1748111400@oxbridge.org.hk
SUMMARY:Oxbridge Society x HK Class (港式優雅) Salon : In the Mood for Central
DESCRIPTION:Introduction \nFrom the sights and sounds of midcentury Queen’s Road Central\, the original flavours of Hong Kong-style teahouses\, the artistic touches of Italian mosaics and ceramics\, the subtle scents of white jade tree and mosses… to that familiar aftertaste from Oxford and Cambridge that linger around your mind. \nIt will be an evening of unheard stories\, rare archival photos\, live jazz\, and sips.  As twilight falls\, Hong Kong Class (港式優雅) will take you on an unforgettable journey through the rich cultural tapestry of Central District\, where every detail tells a story. \nKey information \nSaturday\, 24 May 2025 \n4pm-6:30pm \nFringe Dairy\, Fringe Club\, 2 Lower Albert Road\, Central \nHK$280 (For members) \nHK$300 (For non-members) \n(All guests are welcome to purchase drinks at the bar) \nCapacity is limited and places will be allocated on a first come first served basis after successful payment. \nFor enquiries: Mr. Vincent Ko\, President (kolongfung@gmail.com) and Oxbridge Administrator (society@oxbridge.org.hk) \nPresenter and Host \nHong Kong Class Studio (港式優雅) \nA cultural initiative set up by Martin Fung\, an alumnus of the University of Cambridge\, to advocate the values of Hong Kong’s aesthetics of everyday living through writing on different platforms and curating community events. Hong Kong Class (港式優雅) has been featured in various renowned Hong Kong public media\, including 《明周文化》(Ming Pao Weekly)\, RTHK documentaries\, as well as 《號外》(City Magazine). \nMartin Fung – Martin is an architect cum cultural writer. He is also a fellow of the Cambridge Commonwealth Society and a recipient of the Asian Cultural Council Award and West Kowloon Cultural District Authority Fellowship in cultural leadership. \nMusician \nFreeman Lok – Freeman has been playing the piano since the age of 5. He studied music at the University of Cambridge\, graduating with honours (in piano performance) in 2022. He is now one of the most active young pianists around in Hong Kong. \n 
URL:https://oxbridge.org.hk/event/oxbridge-society-x-hk-class-%e6%b8%af%e5%bc%8f%e5%84%aa%e9%9b%85-salon-in-the-mood-for-central/
LOCATION:Fringe Club\, 2 Lower Albert Road\, Central\, Hong Kong\, Hong Kong
CATEGORIES:Festival,VIP Tours
ATTACH;FMTTYPE=image/png:https://oxbridge.org.hk/wp-content/uploads/2025/05/Mood-scaled.png
END:VEVENT
BEGIN:VEVENT
DTSTART;TZID=Asia/Hong_Kong:20250208T160000
DTEND;TZID=Asia/Hong_Kong:20250208T173000
DTSTAMP:20260423T024642
CREATED:20241209T052729Z
LAST-MODIFIED:20241227T074330Z
UID:7777-1739030400-1739035800@oxbridge.org.hk
SUMMARY:Valentine's Day Paper Cutting Workshop 2025
DESCRIPTION:The Oxford and Cambridge Society of Hong Kong invites you to Valentine’s Day Papercutting Workshop \nDate: Saturday\, 8 February 2025\nTime: 4:00pm-5:30pm \nMeeting Point: Courtyard\, Blue House\, Wan Chai\nHK$250 (member) / HK$350 (non-member) \nJoin us for a Valentine’s Day Papercutting Workshop led by Cambridge Alumnus Nick Tsao\, where you’ll create your own Valentine’s Day design in his papercutting studio at the historic Blue House. Templates will be provided to help you in designing and cutting your own decorations with scissors and a craft knife.   \nFor enquiries:\nJo An Ma (joanma3@yahoo.com) and Oxbridge Administrator (society@oxbridge.org.hk)
URL:https://oxbridge.org.hk/event/valentines-day-paper-cutting-workshop-2025/
CATEGORIES:Festival
ATTACH;FMTTYPE=image/jpeg:https://oxbridge.org.hk/wp-content/uploads/2024/12/Paper-cut-workshop-2025.jpeg
ORGANIZER;CN="The Oxford and Cambridge Society of Hong Kong":MAILTO:society@oxbridge.org.hk
END:VEVENT
BEGIN:VEVENT
DTSTART;TZID=Asia/Hong_Kong:20250113T193000
DTEND;TZID=Asia/Hong_Kong:20250113T223000
DTSTAMP:20260423T024642
CREATED:20241202T091857Z
LAST-MODIFIED:20241209T131957Z
UID:7714-1736796600-1736807400@oxbridge.org.hk
SUMMARY:TRADITIONAL CHINESE NEW YEAR DINNER 2025
DESCRIPTION:TRADITIONAL CHINESE NEW YEAR DINNER \nWe shall hold our Chinese New Year Dinner on Monday\, 13th January 2025 at the traditional and famous Chinese Restaurant Luk Yu Teahouse in Central.  All members and their guests are welcome to enjoy the sumptuous and traditional Chinese cuisine at this popular annual event. \nDate:        Monday\, 13th January 2025 \nTime:        7:30 pm \nVenue:     Luk Yu Teahouse Restaurant\, 1/F\, 24 Stanley Street\, Central\, Hong Kong \nTel:          2523 5463 \nCost:        HK$990 for each member / HK$1\,100 for non-member \nRSVP:      Register and pay at the Oxbridge Society event page. There will be no walk-in registration. \nAccess: \nFrom MTR Central Station\, take the exit for Pedder Street to street level\, turn right\, cross Queen’s Road Central at the traffic lights\, walk straight up D’Aguilar Street and Stanley Street is first on your right.  Please note that the first floor of Luk Yu Teahouse is accessed by walking up a staircase with no elevator access. \nEnquiries to:  Erica Chan\, Administrator (society@oxbridge.org.hk) \nNo refund: Please note that once ticket purchase is completed\, the ticket will not be refundable.
URL:https://oxbridge.org.hk/event/traditional-chinese-new-year-dinner/
LOCATION:Luk Yu Teahouse Restaurant\, 1 f\, Luk Yu Building\, 24 Stanley St\, Central\, Hong Kong
CATEGORIES:Dinners,Festival
ATTACH;FMTTYPE=image/png:https://oxbridge.org.hk/wp-content/uploads/2024/12/Chinese-New-Year-Dinner-2025-Flyer-1.png
END:VEVENT
BEGIN:VEVENT
DTSTART;TZID=Asia/Hong_Kong:20240129T193000
DTEND;TZID=Asia/Hong_Kong:20240129T213000
DTSTAMP:20260423T024642
CREATED:20240108T071020Z
LAST-MODIFIED:20240116T031151Z
UID:4473-1706556600-1706563800@oxbridge.org.hk
SUMMARY:TRADITIONAL CHINESE NEW YEAR DINNER 2024 (Fully Booked)
DESCRIPTION:We shall hold our Chinese New Year Dinner on Monday\, 29th January 2024 at the traditional and famous Chinese Restaurant Luk Yu Teahouse in Central.  All members and their guests are welcome to enjoy the sumptuous and traditional Chinese cuisine at this popular annual event. \nDate:        Monday\, 29th January 2024 \nTime:       7:30 pm \nVenue:    Luk Yu Teahouse Restaurant –  1/F\, 24 Stanley Street\, Central\, Hong Kong \nTel:           2523 5463 \nCost:        HK$980 for each member / HK$1\,080 for non-member \nRSVP:      Register and pay at the Oxbridge Society event page. (There will be no walk-in registration.) \nAccess: \nFrom MTR Central Station\, take the exit for Pedder Street to street level\, turn right\, cross Queen’s Road Central at the traffic lights\, walk straight up D’Aguilar Street and Stanley Street is first on your right.  Please note that the first floor of Luk Yu Teahouse is accessed by walking up a staircase with no elevator access. \nEnquiries to:  Administrator (society@oxbridge.org.hk)
URL:https://oxbridge.org.hk/event/traditional-chinese-new-year-dinner-2024/
LOCATION:Luk Yu Teahouse Restaurant\, 1 f\, Luk Yu Building\, 24 Stanley St\, Central\, Hong Kong
CATEGORIES:Dinners,Festival
ATTACH;FMTTYPE=image/png:https://oxbridge.org.hk/wp-content/uploads/2024/01/Chinese-New-Year-Dinner-2024-Flyer-3.png
ORGANIZER;CN="The Oxford and Cambridge Society of Hong Kong":MAILTO:society@oxbridge.org.hk
END:VEVENT
END:VCALENDAR