BEGIN:VCALENDAR
VERSION:2.0
PRODID:-//The Oxford and Cambridge Society of Hong Kong - ECPv6.15.20//NONSGML v1.0//EN
CALSCALE:GREGORIAN
METHOD:PUBLISH
X-ORIGINAL-URL:https://oxbridge.org.hk
X-WR-CALDESC:Events for The Oxford and Cambridge Society of Hong Kong
REFRESH-INTERVAL;VALUE=DURATION:PT1H
X-Robots-Tag:noindex
X-PUBLISHED-TTL:PT1H
BEGIN:VTIMEZONE
TZID:Asia/Hong_Kong
BEGIN:STANDARD
TZOFFSETFROM:+0800
TZOFFSETTO:+0800
TZNAME:HKT
DTSTART:20230101T000000
END:STANDARD
END:VTIMEZONE
BEGIN:VEVENT
DTSTART;TZID=Asia/Hong_Kong:20240831T100000
DTEND;TZID=Asia/Hong_Kong:20240831T143000
DTSTAMP:20260420T170126
CREATED:20240724T045534Z
LAST-MODIFIED:20240804T113932Z
UID:5816-1725098400-1725114600@oxbridge.org.hk
SUMMARY:Tee Off in Style: An Unforgettable Golf Fun Day
DESCRIPTION:We are thrilled to invite you to join us for an extraordinary Golf Fun Day at the picturesque Jockey Club Kau Sai Chau Public Golf Course on Saturday\, 31 August 2024\, from 10am to 2:30pm. \nImmerse yourself in the serene natural surroundings and refine your skills during an exclusive one-hour training session led by the renowned KSC Golf Professional Team. Savour a delectable buffet lunch in a private\, cosy setting as you connect with fellow golf enthusiasts. \nCapacity: 60 people. Beginners are welcome. Please secure your place by 12 August 2024 by registration and pay at the Oxbridge Events page\, and let us elevate your golfing experience to new heights. \nCost:\nHK$410 per person (member)\nHK$420 per person (non-member)\n(Includes return ferry ticket\, golf club rental\, lunch buffet\, and an one-hour training session) \nFor enquiries\, please contact our Golf Captain Mr Richard Tsun (richard.tsun@tsunandpartners.com.hk)\, Golf Convener Mr Noel Lam (noel.lamyp@gmail.com) or Administrator (Society@oxbridge.org.hk)
URL:https://oxbridge.org.hk/event/golfday/
LOCATION:Jockey Club Kau Sai Chau Public Golf Course
ATTACH;FMTTYPE=image/jpeg:https://oxbridge.org.hk/wp-content/uploads/2024/07/WhatsApp-Image-2024-07-23-at-17.51.56.jpeg
ORGANIZER;CN="The Oxford and Cambridge Society of Hong Kong":MAILTO:society@oxbridge.org.hk
END:VEVENT
END:VCALENDAR