BEGIN:VCALENDAR
VERSION:2.0
PRODID:-//The Oxford and Cambridge Society of Hong Kong - ECPv6.15.20//NONSGML v1.0//EN
CALSCALE:GREGORIAN
METHOD:PUBLISH
X-ORIGINAL-URL:https://oxbridge.org.hk
X-WR-CALDESC:Events for The Oxford and Cambridge Society of Hong Kong
REFRESH-INTERVAL;VALUE=DURATION:PT1H
X-Robots-Tag:noindex
X-PUBLISHED-TTL:PT1H
BEGIN:VTIMEZONE
TZID:Asia/Hong_Kong
BEGIN:STANDARD
TZOFFSETFROM:+0800
TZOFFSETTO:+0800
TZNAME:HKT
DTSTART:20230101T000000
END:STANDARD
END:VTIMEZONE
BEGIN:VEVENT
DTSTART;TZID=Asia/Hong_Kong:20240516T183000
DTEND;TZID=Asia/Hong_Kong:20240516T193000
DTSTAMP:20260423T205910
CREATED:20240502T021739Z
LAST-MODIFIED:20240503T100621Z
UID:5454-1715884200-1715887800@oxbridge.org.hk
SUMMARY:Oxford and Cambridge Society of Hong Kong Guided Tour   金庸百年誕辰紀念
DESCRIPTION:2024 marks the centenary of the birth of Jin Yong 金庸 (Dr Louis Cha)\, a literary giant in Chinese literature. He was a Fellow Commoner at St. John’s college and earned a doctorate in Asian Studies in 2010 at the age of 86 at the University of Cambridge. He was also an honorary fellow of St Anthony’s College and a senior researcher at the Institute for Chinese Studies at the University of Oxford. \n“Wherever there are Chinese people\, Jin Yong’s world of ‘wuxia’ can be found.” Jin Yong works have sold more than 100 million copies worldwide\, have been translated into 14 different languages and inspired over 100 movies & dramas. With profound humanistic values\, they had a far-reaching impact on the global literary world. We cordially invite the Oxbridge members to visit “The World of Wuxia” (盛匯江湖) where renowned sculptor Ren Zhe created statues of Jin Yong characters including Yang Guo (楊過) and Guo Jing (郭靖). Memorable scenes with AR such as Taohua Island (桃花島) can also be found. The tour will be guided by Oxford alumna Jennifer Lee to tell stories of Jin Yong. \nDate: 16 May 2024 (Thur)\nTime: 6:30pm – 7:30pm\nVenue: Edinburgh Place\, Central\nCost: The event is free of charge
URL:https://oxbridge.org.hk/event/oxford-and-cambridge-society-of-hong-kong-guided-tour-%e9%87%91%e5%ba%b8%e7%99%be%e5%b9%b4%e8%aa%95%e8%be%b0%e7%b4%80%e5%bf%b5/
LOCATION:Edinburgh Place\, central\, hong kong
CATEGORIES:General
ATTACH;FMTTYPE=image/jpeg:https://oxbridge.org.hk/wp-content/uploads/2024/05/Jin-Yongs-Centennial-Memorial-Flyer-1.jpg
ORGANIZER;CN="The Oxford and Cambridge Society of Hong Kong":MAILTO:society@oxbridge.org.hk
END:VEVENT
END:VCALENDAR