BEGIN:VCALENDAR
VERSION:2.0
PRODID:-//The Oxford and Cambridge Society of Hong Kong - ECPv6.15.20//NONSGML v1.0//EN
CALSCALE:GREGORIAN
METHOD:PUBLISH
X-ORIGINAL-URL:https://oxbridge.org.hk
X-WR-CALDESC:Events for The Oxford and Cambridge Society of Hong Kong
REFRESH-INTERVAL;VALUE=DURATION:PT1H
X-Robots-Tag:noindex
X-PUBLISHED-TTL:PT1H
BEGIN:VTIMEZONE
TZID:Asia/Hong_Kong
BEGIN:STANDARD
TZOFFSETFROM:+0800
TZOFFSETTO:+0800
TZNAME:HKT
DTSTART:20230101T000000
END:STANDARD
END:VTIMEZONE
BEGIN:VEVENT
DTSTART;TZID=Asia/Hong_Kong:20240120T120000
DTEND;TZID=Asia/Hong_Kong:20240120T140000
DTSTAMP:20260423T172400
CREATED:20240109T020632Z
LAST-MODIFIED:20240110T023239Z
UID:4484-1705752000-1705759200@oxbridge.org.hk
SUMMARY:New Year Golf Gathering (Fully booked)
DESCRIPTION:Please join us for a fun New Year Golf Gathering (Driving Range) this January ! \nSaturday\, 20 January 2024\n12pm-2pm\nMa On Shan Whitehead Club \nBeginners welcome\nCapacity: 18 people\nFree parking available \nCost: $200 (Members)\, $210 (Non-Members) \nRSVP: Register and pay at Oxbridge Society Events page \nPlaces are allocated on a first come first served basis after successful payment. \nFor enquiries: please write to: Golf Captain Richard Tsun (richard.tsun@tsunandpartners.com.hk) or\nAdministrator (society@oxbridge.org.hk)
URL:https://oxbridge.org.hk/event/new-year-golf-gathering/
LOCATION:WhiteHead Club
CATEGORIES:Sports event
ATTACH;FMTTYPE=image/jpeg:https://oxbridge.org.hk/wp-content/uploads/2024/01/Oxbridge-Golf-day.jpeg
ORGANIZER;CN="The Oxford and Cambridge Society of Hong Kong":MAILTO:society@oxbridge.org.hk
END:VEVENT
END:VCALENDAR